View In:
ArcGIS JavaScript
ArcGIS Online Map Viewer
ArcGIS Earth
Service Description: Scanned orthorectified 1:5000 scale (statewide 1974-1992) and 1:1250 scale (cities and villages 1978-1986 north/central VT) panchromatic (black-and-white) VT orthophotos. Source material was mylar. NOTE: Some photos are missing from these datasets.
The mylars were scanned and georeferenced by Heindel and Noyes in the early 2000s, now Waite-Heindel Environmental Management. Waite-Heindel has given the State of Vermont permission to release the scanned and georeferenced orthophotos within the public domain.
Name: EGC_services/IMG_VCGI_BW1974_1992_SP_NOCACHE
Description: Scanned orthorectified 1:5000 scale (statewide 1974-1992) and 1:1250 scale (cities and villages 1978-1986 north/central VT) panchromatic (black-and-white) VT orthophotos. Source material was mylar. NOTE: Some photos are missing from these datasets.
The mylars were scanned and georeferenced by Heindel and Noyes in the early 2000s, now Waite-Heindel Environmental Management. Waite-Heindel has given the State of Vermont permission to release the scanned and georeferenced orthophotos within the public domain.
Single Fused Map Cache: false
Extent:
XMin: 423636.3236999996
YMin: 24008.93762540008
XMax: 583634.5879475431
YMax: 280008.4832000006
Spatial Reference: 32145
(32145)
LatestVCSWkid(0)
Initial Extent:
XMin: 423636.3236999996
YMin: 24008.93762540008
XMax: 583634.5879475431
YMax: 280008.4832000006
Spatial Reference: 32145
(32145)
LatestVCSWkid(0)
Full Extent:
XMin: 423636.3236999996
YMin: 24008.93762540008
XMax: 583634.5879475431
YMax: 280008.4832000006
Spatial Reference: 32145
(32145)
LatestVCSWkid(0)
Pixel Size X: 0.2111616846233607
Pixel Size Y: 0.2111616846233607
Band Count: 1
Pixel Type: U8
RasterFunction Infos: {"rasterFunctionInfos": [
{
"name": "Apply Esri stretch",
"description": "Apply Esri stretch",
"help": ""
},
{
"name": "None",
"description": "Make a Raster or Raster Dataset into a Function Raster Dataset.",
"help": ""
}
]}
Mensuration Capabilities: Basic
Inspection Capabilities:
Has Histograms: false
Has Colormap: false
Has Multi Dimensions : false
Rendering Rule:
Min Scale: 0
Max Scale: 0
Resampling: false
Copyright Text: VT orthophotos acquired and compiled between 1974 and 1992 under the auspices of the Vermont Mapping Program. The mylars were scanned and georeferenced by Heidel and Noyes in the early 2000s, now Waite-Heidel Environmental Management. Waite-Heidel has given the State of Vermont permission to release the scanned and georeferenced orthophotos within the public domain.
Service Data Type: esriImageServiceDataTypeGeneric
Min Values: N/A
Max Values: N/A
Mean Values: N/A
Standard Deviation Values: N/A
Object ID Field: OBJECTID
Fields:
-
OBJECTID
(
type: esriFieldTypeOID, alias: OBJECTID
)
-
Shape
(
type: esriFieldTypeGeometry, alias: Shape
)
-
Name
(
type: esriFieldTypeString, alias: Name, length: 200
)
-
MinPS
(
type: esriFieldTypeDouble, alias: MinPS
)
-
MaxPS
(
type: esriFieldTypeDouble, alias: MaxPS
)
-
LowPS
(
type: esriFieldTypeDouble, alias: LowPS
)
-
HighPS
(
type: esriFieldTypeDouble, alias: HighPS
)
-
Category
(
type: esriFieldTypeInteger, alias: Category
, Coded Values:
[0: Unknown]
, [1: Primary]
, [2: Overview]
, ...6 more...
)
-
Tag
(
type: esriFieldTypeString, alias: Tag, length: 100
)
-
GroupName
(
type: esriFieldTypeString, alias: GroupName, length: 100
)
-
ProductName
(
type: esriFieldTypeString, alias: ProductName, length: 100
)
-
CenterX
(
type: esriFieldTypeDouble, alias: CenterX
)
-
CenterY
(
type: esriFieldTypeDouble, alias: CenterY
)
-
ZOrder
(
type: esriFieldTypeInteger, alias: ZOrder
)
-
Shape_Length
(
type: esriFieldTypeDouble, alias: Shape_Length
)
-
Shape_Area
(
type: esriFieldTypeDouble, alias: Shape_Area
)
Default Mosaic Method: Northwest
Allowed Mosaic Methods: NorthWest,Center,LockRaster,ByAttribute,Nadir,Viewpoint,Seamline,None
SortField:
SortValue: null
Mosaic Operator: First
Default Compression Quality: 80
Default Resampling Method: Bilinear
Max Record Count: 1000
Max Image Height: 4100
Max Image Width: 15000
Max Download Image Count: 20
Max Mosaic Image Count: 20
Allow Raster Function: true
Allow Copy: true
Allow Analysis: true
Allow Compute TiePoints: false
Supports Statistics: true
Supports Advanced Queries: true
Use StandardizedQueries: true
Raster Type Infos:
Name: Raster Dataset
Description: Supports all ArcGIS Raster Datasets
Help:
Has Raster Attribute Table: false
Edit Fields Info: null
Ownership Based AccessControl For Rasters: null
Child Resources:
Info
Statistics
Key Properties
Legend
Raster Function Infos
Supported Operations:
Export Image
Query
Identify
Measure
Compute Histograms
Compute Statistics Histograms
Get Samples
Compute Class Statistics
Query GPS Info
Find Images
Image to Map
Map to Image
Measure from Image
Image to Map Multiray
Query Boundary
Compute Pixel Location
Compute Angles
Validate
Project