{
 "currentVersion": 11.5,
 "serviceDescription": "Scanned and georeferenced 1:5000 scale panchromatic (black-and-white) VT orthophotos acquired and compiled between 1974 and 1992 under the auspices of the Vermont Mapping Program. The mylars were scanned and georeferenced by Heindel and Noyes in the early 2000s, now Waite-Heindel Environmental Management. Waite-Heindel has given the State of Vermont permission to release the scanned and georeferenced orthophotos within the public domain. Some photos are missing from the statewide dataset.",
 "name": "EGC_services/IMG_VCGI_BW1974_1992_SP_NOCACHE",
 "description": "Scanned and georeferenced 1:5000 scale panchromatic (black-and-white) VT orthophotos acquired and compiled between 1974 and 1992 under the auspices of the Vermont Mapping Program. The mylars were scanned and georeferenced by Heindel and Noyes in the early 2000s, now Waite-Heindel Environmental Management. Waite-Heindel has given the State of Vermont permission to release the scanned and georeferenced orthophotos within the public domain. Some photos are missing from the statewide dataset.",
 "extent": {
  "xmin": 423636.323661519,
  "ymin": 24008.942170807393,
  "xmax": 583634.5551441999,
  "ymax": 280008.483238481,
  "spatialReference": {
   "wkid": 32145,
   "latestWkid": 32145
  }
 },
 "initialExtent": {
  "xmin": 423636.323661519,
  "ymin": 24008.942170807393,
  "xmax": 583634.5551441999,
  "ymax": 280008.483238481,
  "spatialReference": {
   "wkid": 32145,
   "latestWkid": 32145
  }
 },
 "fullExtent": {
  "xmin": 423636.323661519,
  "ymin": 24008.942170807393,
  "xmax": 583634.5551441999,
  "ymax": 280008.483238481,
  "spatialReference": {
   "wkid": 32145,
   "latestWkid": 32145
  }
 },
 "sortableFields": "MinPS,MaxPS,LowPS,HighPS,CenterX,CenterY,ZOrder,Shape_Length,Shape_Area,YEAR,YEARALT",
 "bandCount": 1,
 "pixelType": "U8",
 "minValues": [
  0
 ],
 "maxValues": [
  255
 ],
 "meanValues": [
  144.3987236986249
 ],
 "stdvValues": [
  91.47847478851777
 ],
 "serviceProperties": "NorthWest<\/MosaicMethod>First<\/MosaicOperator>true<\/SortAscending><\/LockImageID>Name<\/TileOrderField>0<\/TileOrderBase>600.000000<\/AvgImageSpacingX>300.000000<\/AvgImageSpacingY>0.0<\/ViewPointX>0.0<\/ViewPointY>0.0<\/ViewPointDefShiftX>0.0<\/ViewPointDefShiftY>JPEG<\/CompressionMethod>80<\/CompressionQuality>0.010000<\/CompressionTolerance>Bilinear<\/SamplingMethod><\/ImageServiceProperties><\/ImageServer>",
 "allowedFields": "Name,MinPS,MaxPS,LowPS,HighPS,Tag,GroupName,ProductName,CenterX,CenterY,ZOrder,Shape_Length,Shape_Area,YEAR",
 "hasMultidimensions": false,
 "pixelSizeX": 0.8466769229445679,
 "pixelSizeY": 0.8466769229445676,
 "meanPixelSize": 0.8466769229445678,
 "datasetFormat": "AMD",
 "uncompressedSize": 57137195976,
 "blockWidth": 2048,
 "blockHeight": 256,
 "compressionType": "None",
 "bandNames": [
  "Band_1"
 ],
 "allowCopy": true,
 "allowAnalysis": true,
 "itemAccess": false,
 "inspectionCapabilities": "",
 "minPixelSize": 0,
 "maxPixelSize": 0,
 "copyrightText": "VT orthophotos acquired and compiled between 1974 and 1992 under the auspices of the Vermont Mapping Program. The mylars were scanned and georeferenced by Heidel and Noyes in the early 2000s, now Waite-Heidel Environmental Management. Waite-Heidel has given the State of Vermont permission to release the scanned and georeferenced orthophotos within the public domain.",
 "serviceDataType": "esriImageServiceDataTypeGeneric",
 "serviceSourceType": "esriImageServiceSourceTypeMosaicDataset",
 "objectIdField": "OBJECTID",
 "fields": [
  {
   "name": "OBJECTID",
   "type": "esriFieldTypeOID",
   "alias": "OBJECTID",
   "domain": null
  },
  {
   "name": "Shape",
   "type": "esriFieldTypeGeometry",
   "alias": "Shape",
   "domain": null
  },
  {
   "name": "Name",
   "type": "esriFieldTypeString",
   "alias": "Name",
   "domain": null,
   "length": 200
  },
  {
   "name": "MinPS",
   "type": "esriFieldTypeDouble",
   "alias": "MinPS",
   "domain": null
  },
  {
   "name": "MaxPS",
   "type": "esriFieldTypeDouble",
   "alias": "MaxPS",
   "domain": null
  },
  {
   "name": "LowPS",
   "type": "esriFieldTypeDouble",
   "alias": "LowPS",
   "domain": null
  },
  {
   "name": "HighPS",
   "type": "esriFieldTypeDouble",
   "alias": "HighPS",
   "domain": null
  },
  {
   "name": "Category",
   "type": "esriFieldTypeInteger",
   "alias": "Category",
   "domain": {
    "type": "codedValue",
    "name": "MosaicCatalogItemCategoryDomain",
    "description": "Catalog item categories.",
    "codedValues": [
     {
      "name": "Unknown",
      "code": 0
     },
     {
      "name": "Primary",
      "code": 1
     },
     {
      "name": "Overview",
      "code": 2
     },
     {
      "name": "Unprocessed Overview",
      "code": 3
     },
     {
      "name": "Partial Overview",
      "code": 4
     },
     {
      "name": "Inactive",
      "code": 5
     },
     {
      "name": "Uploaded",
      "code": 253
     },
     {
      "name": "Incomplete",
      "code": 254
     },
     {
      "name": "Custom",
      "code": 255
     }
    ],
    "mergePolicy": "esriMPTDefaultValue",
    "splitPolicy": "esriSPTDefaultValue"
   }
  },
  {
   "name": "Tag",
   "type": "esriFieldTypeString",
   "alias": "Tag",
   "domain": null,
   "length": 100
  },
  {
   "name": "GroupName",
   "type": "esriFieldTypeString",
   "alias": "GroupName",
   "domain": null,
   "length": 100
  },
  {
   "name": "ProductName",
   "type": "esriFieldTypeString",
   "alias": "ProductName",
   "domain": null,
   "length": 100
  },
  {
   "name": "CenterX",
   "type": "esriFieldTypeDouble",
   "alias": "CenterX",
   "domain": null
  },
  {
   "name": "CenterY",
   "type": "esriFieldTypeDouble",
   "alias": "CenterY",
   "domain": null
  },
  {
   "name": "ZOrder",
   "type": "esriFieldTypeInteger",
   "alias": "ZOrder",
   "domain": null
  },
  {
   "name": "Shape_Length",
   "type": "esriFieldTypeDouble",
   "alias": "Shape_Length",
   "domain": null
  },
  {
   "name": "Shape_Area",
   "type": "esriFieldTypeDouble",
   "alias": "Shape_Area",
   "domain": null
  },
  {
   "name": "YEAR",
   "type": "esriFieldTypeSmallInteger",
   "alias": "YEAR",
   "domain": null
  }
 ],
 "capabilities": "Catalog,Mensuration,Pixels,Image,Metadata",
 "defaultMosaicMethod": "Northwest",
 "allowedMosaicMethods": "NorthWest,Center,LockRaster,ByAttribute,Nadir,Viewpoint,Seamline,None",
 "sortField": "",
 "sortValue": null,
 "sortAscending": true,
 "mosaicOperator": "First",
 "maxDownloadSizeLimit": 2048,
 "defaultCompressionQuality": 80,
 "defaultResamplingMethod": "Bilinear",
 "maxImageHeight": 4100,
 "maxImageWidth": 15000,
 "maxRecordCount": 1000,
 "maxDownloadImageCount": 20,
 "maxMosaicImageCount": 20,
 "allowRasterFunction": true,
 "rasterFunctionInfos": [
  {
   "name": "None",
   "description": "",
   "help": ""
  }
 ],
 "rasterTypeInfos": [
  {
   "name": "Raster Dataset",
   "description": "Supports all ArcGIS Raster Datasets",
   "help": ""
  }
 ],
 "mensurationCapabilities": "Basic",
 "hasHistograms": true,
 "hasColormap": false,
 "hasRasterAttributeTable": false,
 "minScale": 0,
 "maxScale": 0,
 "exportTilesAllowed": false,
 "supportsStatistics": true,
 "supportsAdvancedQueries": true,
 "editFieldsInfo": null,
 "ownershipBasedAccessControlForRasters": null,
 "allowComputeTiePoints": false,
 "useStandardizedQueries": true,
 "advancedQueryCapabilities": {
  "useStandardizedQueries": true,
  "supportsStatistics": true,
  "supportsOrderBy": true,
  "supportsDistinct": true,
  "supportsPagination": true
 },
 "spatialReference": {
  "wkid": 32145,
  "latestWkid": 32145
 },
 "resampling": false
}
