View In:
ArcGIS JavaScript
ArcGIS Online Map Viewer
ArcGIS Earth
Service Description: TEST_services/TEST_LIDARDEM_COG
Name: TEST_services/TEST_LIDARDEM_COG
Description:
Single Fused Map Cache: false
Extent:
XMin: 418434.1146922951
YMin: 24989.340776568657
XMax: 582399.9884739176
YMax: 280000.0
Spatial Reference: 103172
(6589)
LatestVCSWkid(0)
Initial Extent:
XMin: 418434.1146922951
YMin: 24989.340776568657
XMax: 582399.9884739176
YMax: 280000.0
Spatial Reference: 103172
(6589)
LatestVCSWkid(0)
Full Extent:
XMin: 418434.1146922951
YMin: 24989.340776568657
XMax: 582399.9884739176
YMax: 280000.0
Spatial Reference: 103172
(6589)
LatestVCSWkid(0)
Pixel Size X: 0.6999998880690177
Pixel Size Y: 0.699999888069018
Band Count: 1
Pixel Type: F32
RasterFunction Infos: {"rasterFunctionInfos": [{
"name": "None",
"description": "",
"help": ""
}]}
Mensuration Capabilities: Basic
Inspection Capabilities:
Has Histograms: true
Has Colormap: false
Has Multi Dimensions : false
Rendering Rule:
Min Scale: 0
Max Scale: 0
Copyright Text:
Service Data Type: esriImageServiceDataTypeGeneric
Min Values: -1.6058766841888
Max Values: 1339.8419189453
Mean Values: 367.21412340699
Standard Deviation Values: 196.33161287218
Object ID Field:
Fields:
None
Default Mosaic Method: Center
Allowed Mosaic Methods:
SortField:
SortValue: null
Mosaic Operator: First
Default Compression Quality: 75
Default Resampling Method: Bilinear
Max Record Count: null
Max Image Height: 4100
Max Image Width: 15000
Max Download Image Count: null
Max Mosaic Image Count: null
Allow Raster Function: true
Allow Copy: true
Allow Analysis: true
Allow Compute TiePoints: false
Supports Statistics: false
Supports Advanced Queries: false
Use StandardizedQueries: true
Raster Type Infos:
Name: Raster Dataset
Description: Supports all ArcGIS Raster Datasets
Help:
Has Raster Attribute Table: false
Edit Fields Info: null
Ownership Based AccessControl For Rasters: null
Child Resources:
Info
Histograms
Statistics
Key Properties
Legend
Raster Function Infos
Supported Operations:
Export Image
Identify
Measure
Compute Histograms
Compute Statistics Histograms
Get Samples
Compute Class Statistics
Query Boundary
Compute Pixel Location
Compute Angles
Validate
Project