{
 "currentVersion": 11.3,
 "serviceDescription": "TEST_services/TEST_LIDARDEM_COG",
 "name": "TEST_services/TEST_LIDARDEM_COG",
 "description": "",
 "extent": {
  "xmin": 418434.1146922951,
  "ymin": 24989.340776568657,
  "xmax": 582399.9884739176,
  "ymax": 280000,
  "spatialReference": {
   "wkid": 103172,
   "latestWkid": 6589
  }
 },
 "initialExtent": {
  "xmin": 418434.1146922951,
  "ymin": 24989.340776568657,
  "xmax": 582399.9884739176,
  "ymax": 280000,
  "spatialReference": {
   "wkid": 103172,
   "latestWkid": 6589
  }
 },
 "fullExtent": {
  "xmin": 418434.1146922951,
  "ymin": 24989.340776568657,
  "xmax": 582399.9884739176,
  "ymax": 280000,
  "spatialReference": {
   "wkid": 103172,
   "latestWkid": 6589
  }
 },
 "sortableFields": "",
 "bandCount": 1,
 "pixelType": "F32",
 "minValues": [
  -1.6058766841888
 ],
 "maxValues": [
  1339.8419189453
 ],
 "meanValues": [
  367.21412340699
 ],
 "stdvValues": [
  196.33161287218
 ],
 "hasMultidimensions": false,
 "pixelSizeX": 0.6999998880690177,
 "pixelSizeY": 0.699999888069018,
 "meanPixelSize": 0.6999998880690179,
 "datasetFormat": "TIFF",
 "uncompressedSize": 341331093348,
 "blockWidth": 512,
 "blockHeight": 512,
 "compressionType": "LERC",
 "bandNames": [
  "Band_1"
 ],
 "allowCopy": true,
 "allowAnalysis": true,
 "itemAccess": false,
 "inspectionCapabilities": "",
 "noDataValue": -3.4028230607370965E38,
 "noDataValues": [
  -3.4028230607370965E38
 ],
 "minPixelSize": 0,
 "maxPixelSize": 0,
 "copyrightText": "",
 "serviceDataType": "esriImageServiceDataTypeGeneric",
 "serviceSourceType": "esriImageServiceSourceTypeDataset",
 "objectIdField": "",
 "fields": [],
 "capabilities": "Image,Metadata,Pixels,Mensuration",
 "defaultMosaicMethod": "Center",
 "allowedMosaicMethods": "",
 "sortField": "",
 "sortValue": null,
 "sortAscending": true,
 "mosaicOperator": "First",
 "defaultCompressionQuality": 75,
 "defaultResamplingMethod": "Bilinear",
 "maxImageHeight": 4100,
 "maxImageWidth": 15000,
 "allowRasterFunction": true,
 "rasterFunctionInfos": [
  {
   "name": "None",
   "description": "",
   "help": ""
  }
 ],
 "rasterTypeInfos": [
  {
   "name": "Raster Dataset",
   "description": "Supports all ArcGIS Raster Datasets",
   "help": ""
  }
 ],
 "mensurationCapabilities": "Basic",
 "hasHistograms": true,
 "hasColormap": false,
 "hasRasterAttributeTable": false,
 "minScale": 0,
 "maxScale": 0,
 "exportTilesAllowed": false,
 "supportsStatistics": false,
 "supportsAdvancedQueries": false,
 "editFieldsInfo": null,
 "ownershipBasedAccessControlForRasters": null,
 "allowComputeTiePoints": false,
 "useStandardizedQueries": true,
 "advancedQueryCapabilities": {
  "useStandardizedQueries": true,
  "supportsStatistics": false,
  "supportsOrderBy": false,
  "supportsDistinct": false,
  "supportsPagination": false
 },
 "spatialReference": {
  "wkid": 103172,
  "latestWkid": 6589
 }
}
