View In:
ArcGIS JavaScript
ArcGIS Online Map Viewer
ArcGIS Earth
Service Description: Symbolized slope model (percent slope) derived from quality level 1 (QL1) lidar collected in Spring of 2023. This statewide dataset shows the percent slope of Vermont's terrain and supports multiple use cases such as flood risk management, hydraulic modeling, infrastructure planning, asset management, hazard mitigation, emergency response, landslide prediction, flood plain mapping, conservation planning, water quality modeling, habitat restoration, etc. For more information on the VLP please see the vcgi.vermont.gov/data-and-programs/lidar-program web page.
Name: EGC_services/IMG_VCGI_LIDARSLOPESYM_SP_NOCACHE_v1
Description: Symbolized slope model (percent slope) derived from quality level 1 (QL1) lidar collected in Spring of 2023. This statewide dataset shows the percent slope of Vermont's terrain and supports multiple use cases such as flood risk management, hydraulic modeling, infrastructure planning, asset management, hazard mitigation, emergency response, landslide prediction, flood plain mapping, conservation planning, water quality modeling, habitat restoration, etc. For more information on the VLP please see the vcgi.vermont.gov/data-and-programs/lidar-program web page.
Single Fused Map Cache: false
Extent:
XMin: 424688.5999999996
YMin: 25111.800000000017
XMax: 581654.4999999997
YMax: 279898.5
Spatial Reference: 32145
(32145)
LatestVCSWkid(0)
Initial Extent:
XMin: 424688.5999999996
YMin: 25111.800000000017
XMax: 581654.4999999997
YMax: 279898.5
Spatial Reference: 32145
(32145)
LatestVCSWkid(0)
Full Extent:
XMin: 424688.5999999996
YMin: 25111.800000000017
XMax: 581654.4999999997
YMax: 279898.5
Spatial Reference: 32145
(32145)
LatestVCSWkid(0)
Pixel Size X: 0.35000000000000003
Pixel Size Y: 0.35
Band Count: 1
Pixel Type: F32
RasterFunction Infos: {"rasterFunctionInfos": [
{
"name": "28cls_IMG_VCGI_LIDARSLOPE_SP_NOCACHE_v1",
"description": "A raster function template.",
"help": ""
},
{
"name": "None",
"description": "Make a Raster or Raster Dataset into a Function Raster Dataset.",
"help": ""
}
]}
Mensuration Capabilities:
Inspection Capabilities:
Has Histograms: false
Has Colormap: false
Has Multi Dimensions : false
Rendering Rule:
Min Scale: 0
Max Scale: 0
Resampling: false
Copyright Text: VCGI
Service Data Type: esriImageServiceDataTypeGeneric
Min Values: N/A
Max Values: N/A
Mean Values: N/A
Standard Deviation Values: N/A
Object ID Field: OBJECTID
Fields:
-
OBJECTID
(
type: esriFieldTypeOID, alias: OBJECTID
)
-
Shape
(
type: esriFieldTypeGeometry, alias: Shape
)
-
Name
(
type: esriFieldTypeString, alias: Name, length: 200
)
-
MinPS
(
type: esriFieldTypeDouble, alias: MinPS
)
-
MaxPS
(
type: esriFieldTypeDouble, alias: MaxPS
)
-
LowPS
(
type: esriFieldTypeDouble, alias: LowPS
)
-
HighPS
(
type: esriFieldTypeDouble, alias: HighPS
)
-
Category
(
type: esriFieldTypeInteger, alias: Category
, Coded Values:
[0: Unknown]
, [1: Primary]
, [2: Overview]
, ...6 more...
)
-
Tag
(
type: esriFieldTypeString, alias: Tag, length: 100
)
-
GroupName
(
type: esriFieldTypeString, alias: GroupName, length: 100
)
-
ProductName
(
type: esriFieldTypeString, alias: ProductName, length: 100
)
-
CenterX
(
type: esriFieldTypeDouble, alias: CenterX
)
-
CenterY
(
type: esriFieldTypeDouble, alias: CenterY
)
-
ZOrder
(
type: esriFieldTypeInteger, alias: ZOrder
)
-
Shape_Length
(
type: esriFieldTypeDouble, alias: Shape_Length
)
-
Shape_Area
(
type: esriFieldTypeDouble, alias: Shape_Area
)
Default Mosaic Method: Northwest
Allowed Mosaic Methods: NorthWest,Center,LockRaster,ByAttribute,Nadir,Viewpoint,Seamline,None
SortField:
SortValue: null
Mosaic Operator: First
Default Compression Quality: 75
Default Resampling Method: Bilinear
Max Record Count: 1000
Max Image Height: 4100
Max Image Width: 15000
Max Download Image Count: 20
Max Mosaic Image Count: 20
Allow Raster Function: true
Allow Copy: true
Allow Analysis: true
Allow Compute TiePoints: false
Supports Statistics: true
Supports Advanced Queries: true
Use StandardizedQueries: true
Raster Type Infos:
Name: Raster Dataset
Description: Supports all ArcGIS Raster Datasets
Help:
Has Raster Attribute Table: false
Edit Fields Info: null
Ownership Based AccessControl For Rasters: null
Child Resources:
Info
Statistics
Key Properties
Legend
Raster Function Infos
Supported Operations:
Export Image
Query
Identify
Download Rasters
Get Image Url
Measure
Compute Histograms
Compute Statistics Histograms
Get Samples
Compute Class Statistics
Query GPS Info
Find Images
Image to Map
Map to Image
Measure from Image
Image to Map Multiray
Query Boundary
Compute Pixel Location
Compute Angles
Validate
Project