View In:
ArcGIS JavaScript
ArcGIS Online Map Viewer
ArcGIS Earth
Service Description: Impervious polygons derived from circa 2021/2022 high-resolution remotely sensed data. Object Based Image Analysis (OBIA) techniques were employed to automatically extract building, roads, other paved, and railroads polygons from a combination of 2013-2017 QL2 LiDAR data and 2021/2022 Orthoimagery. The resultant Impervious polygons were then subjected to a manual review at a scale of 1:2500. A further processing task was conducted to detect rocky outcrops on the tops of mountains, which are classified as Bare Soil in this dataset.
Name: EGC_services/IMG_VCGI_IMPERVSRFCS2022_WM_NOCACHE_v1
Description: Impervious polygons derived from circa 2021/2022 high-resolution remotely sensed data. Object Based Image Analysis (OBIA) techniques were employed to automatically extract building, roads, other paved, and railroads polygons from a combination of 2013-2017 QL2 LiDAR data and 2021/2022 Orthoimagery. The resultant Impervious polygons were then subjected to a manual review at a scale of 1:2500. A further processing task was conducted to detect rocky outcrops on the tops of mountains, which are classified as Bare Soil in this dataset.
Single Fused Map Cache: false
Extent:
XMin: -8176879.870999999
YMin: 5269850.528399996
XMax: -7955478.870999999
YMax: 5624414.028399996
Spatial Reference: 102100
(3857)
LatestVCSWkid(0)
Initial Extent:
XMin: -8176879.870999999
YMin: 5269850.528399996
XMax: -7955478.870999999
YMax: 5624414.028399996
Spatial Reference: 102100
(3857)
LatestVCSWkid(0)
Full Extent:
XMin: -8176879.870999999
YMin: 5269850.528399996
XMax: -7955478.870999999
YMax: 5624414.028399996
Spatial Reference: 102100
(3857)
LatestVCSWkid(0)
Pixel Size X: 0.5
Pixel Size Y: 0.5
Band Count: 1
Pixel Type: U8
RasterFunction Infos: {"rasterFunctionInfos": [
{
"name": "Apply_ImperviousSurface2022_colormap",
"description": "Applies a colormap and legend labels",
"help": ""
},
{
"name": "None",
"description": "",
"help": ""
}
]}
Mensuration Capabilities: Basic
Inspection Capabilities:
Has Histograms: true
Has Colormap: false
Has Multi Dimensions : false
Rendering Rule:
Min Scale: 0
Max Scale: 0
Resampling: false
Copyright Text: VCGI, UVM SAL
Service Data Type: esriImageServiceDataTypeThematic
Min Values: 0
Max Values: 8
Mean Values: 6.366280178414918
Standard Deviation Values: 0.7329527723850431
Object ID Field: OBJECTID
Fields:
-
OBJECTID
(
type: esriFieldTypeOID, alias: OBJECTID
)
-
Shape
(
type: esriFieldTypeGeometry, alias: Shape
)
-
Name
(
type: esriFieldTypeString, alias: Name, length: 200
)
-
MinPS
(
type: esriFieldTypeDouble, alias: MinPS
)
-
MaxPS
(
type: esriFieldTypeDouble, alias: MaxPS
)
-
LowPS
(
type: esriFieldTypeDouble, alias: LowPS
)
-
HighPS
(
type: esriFieldTypeDouble, alias: HighPS
)
-
Category
(
type: esriFieldTypeInteger, alias: Category
, Coded Values:
[0: Unknown]
, [1: Primary]
, [2: Overview]
, ...6 more...
)
-
Tag
(
type: esriFieldTypeString, alias: Tag, length: 100
)
-
GroupName
(
type: esriFieldTypeString, alias: GroupName, length: 100
)
-
ProductName
(
type: esriFieldTypeString, alias: ProductName, length: 100
)
-
CenterX
(
type: esriFieldTypeDouble, alias: CenterX
)
-
CenterY
(
type: esriFieldTypeDouble, alias: CenterY
)
-
ZOrder
(
type: esriFieldTypeInteger, alias: ZOrder
)
-
Shape_Length
(
type: esriFieldTypeDouble, alias: Shape_Length
)
-
Shape_Area
(
type: esriFieldTypeDouble, alias: Shape_Area
)
Default Mosaic Method: Northwest
Allowed Mosaic Methods: NorthWest,Center,Nadir,Viewpoint,LockRaster,ByAttribute,Seamline,None
SortField:
SortValue: null
Mosaic Operator: First
Default Compression Quality: 75
Default Resampling Method: Nearest
Max Record Count: 1000
Max Image Height: 4100
Max Image Width: 15000
Max Download Image Count: 20
Max Mosaic Image Count: 20
Allow Raster Function: true
Allow Copy: true
Allow Analysis: true
Allow Compute TiePoints: false
Supports Statistics: true
Supports Advanced Queries: true
Use StandardizedQueries: true
Raster Type Infos:
Name: Raster Dataset
Description: Supports all ArcGIS Raster Datasets
Help:
Has Raster Attribute Table: false
Edit Fields Info: null
Ownership Based AccessControl For Rasters: null
Child Resources:
Info
Histograms
Statistics
Key Properties
Legend
Raster Function Infos
Supported Operations:
Export Image
Query
Identify
Measure
Compute Histograms
Compute Statistics Histograms
Get Samples
Compute Class Statistics
Query GPS Info
Find Images
Image to Map
Map to Image
Measure from Image
Image to Map Multiray
Query Boundary
Compute Pixel Location
Compute Angles
Validate
Project