View In:
ArcGIS JavaScript
ArcGIS Online map viewer
Google Earth
ArcMap
View Footprint In:
ArcGIS Online map viewer
Service Description: SLOPE service (percent slope) derived from various VT Lidar datasets. Pre-symbolized. VT State Plane Meters NAD83. For more information on Vermont's Lidar Program please see the vcgi.vermont.gov/lidar web page.
Name: EGC_services/IMG_VCGI_LIDARSLOPESYM_SP_NOCACHE_v1
Description: SLOPE service (percent slope) derived from various VT Lidar datasets. Pre-symbolized. VT State Plane Meters NAD83. For more information on Vermont's Lidar Program please see the vcgi.vermont.gov/lidar web page.
Single Fused Map Cache: false
Extent:
XMin: 418434.0999999996
YMin: 24989.30001878005
XMax: 582399.9999879245
YMax: 280000
Spatial Reference: 32145
(32145)
Initial Extent:
XMin: 418434.0999999996
YMin: 24989.30001878005
XMax: 582399.9999879245
YMax: 280000
Spatial Reference: 32145
(32145)
Full Extent:
XMin: 418434.0999999996
YMin: 24989.30001878005
XMax: 582399.9999879245
YMax: 280000
Spatial Reference: 32145
(32145)
Pixel Size X: 0.699999999948449
Pixel Size Y: 0.6999999999484491
Band Count: 1
Pixel Type: F32
RasterFunction Infos: {"name":"28cls_IMG_VCGI_LIDARSLOPE_SP_NOCACHE_v1","description":"A raster function template.","help":""}, {"name":"None","description":"A No-Op Function.","help":""}
Mensuration Capabilities: None
Has Histograms: true
Has Colormap: false
Has Multi Dimensions : false
Rendering Rule:
Min Scale: 0
Max Scale: 0
Copyright Text: VCGI
Service Data Type: esriImageServiceDataTypeGeneric
Min Values: -1.6058766841888428
Max Values: 1339.8487548828125
Mean Values: 367.2142719124999
Standard Deviation Values: 196.33159933074248
Object ID Field: OBJECTID
Fields:
-
OBJECTID
(
type: esriFieldTypeOID
, alias: OBJECTID
)
-
Shape
(
type: esriFieldTypeGeometry
, alias: Shape
)
-
Name
(
type: esriFieldTypeString
, alias: Name
, length: 200
)
-
MinPS
(
type: esriFieldTypeDouble
, alias: MinPS
)
-
MaxPS
(
type: esriFieldTypeDouble
, alias: MaxPS
)
-
LowPS
(
type: esriFieldTypeDouble
, alias: LowPS
)
-
HighPS
(
type: esriFieldTypeDouble
, alias: HighPS
)
-
Category
(
type: esriFieldTypeInteger
, alias: Category
, Coded Values:
[0: Unknown]
, [1: Primary]
, [2: Overview]
, ...6 more...
)
-
Tag
(
type: esriFieldTypeString
, alias: Tag
, length: 100
)
-
GroupName
(
type: esriFieldTypeString
, alias: GroupName
, length: 100
)
-
ProductName
(
type: esriFieldTypeString
, alias: ProductName
, length: 100
)
-
CenterX
(
type: esriFieldTypeDouble
, alias: CenterX
)
-
CenterY
(
type: esriFieldTypeDouble
, alias: CenterY
)
-
ZOrder
(
type: esriFieldTypeInteger
, alias: ZOrder
)
-
Shape_Length
(
type: esriFieldTypeDouble
, alias: Shape_Length
)
-
Shape_Area
(
type: esriFieldTypeDouble
, alias: Shape_Area
)
Default Mosaic Method: Northwest
Allowed Mosaic Methods: NorthWest,Center,LockRaster,ByAttribute,Nadir,Viewpoint,Seamline,None
SortField:
SortValue: null
Mosaic Operator: First
Default Compression Quality: 75
Default Resampling Method: Bilinear
Max Record Count: 1000
Max Image Height: 4100
Max Image Width: 15000
Max Download Image Count: 20
Max Mosaic Image Count: 20
Allow Raster Function: true
Allow Compute TiePoints: false
Supports Statistics: true
Supports Advanced Queries: true
Use StandardizedQueries: true
Raster Type Infos:
Name: Raster Dataset
Description: Supports all ArcGIS Raster Datasets
Help:
Has Raster Attribute Table: false
Edit Fields Info: null
Ownership Based AccessControl For Rasters: null
Child Resources:
Info
Histograms
Key Properties
Legend
MultiDimensionalInfo
rasterFunctionInfos
Supported Operations:
Export Image
Query
Identify
Download Rasters
Measure
Compute Histograms
Compute Statistics Histograms
Get Samples
Compute Class Statistics