View In:
ArcGIS JavaScript
ArcGIS Online Map Viewer
ArcGIS Earth
Service Description: In support of myriad Vermont use cases, The Vermont Center for Geographic Information Lidar Program (VLP) has been pursuing Quality Level 2 (QL2) statewide lidar coverage since 2011. For more information on the VLP please see the vcgi.vermont.gov/data-and-programs/lidar-program web page.
Name: EGC_services/IMG_VCGI_LIDARDEM_SP_NOCACHE_v1
Description: In support of myriad Vermont use cases, The Vermont Center for Geographic Information Lidar Program (VLP) has been pursuing Quality Level 2 (QL2) statewide lidar coverage since 2011. For more information on the VLP please see the vcgi.vermont.gov/data-and-programs/lidar-program web page.
Single Fused Map Cache: false
Extent:
XMin: 418434.10000122956
YMin: 24989.300018513808
XMax: 582399.9999891544
YMax: 279999.99999973376
Spatial Reference: 32145
(32145)
Initial Extent:
XMin: 418434.10000122956
YMin: 24989.300018513808
XMax: 582399.9999891544
YMax: 279999.99999973376
Spatial Reference: 32145
(32145)
Full Extent:
XMin: 418434.10000122956
YMin: 24989.300018513808
XMax: 582399.9999891544
YMax: 279999.99999973376
Spatial Reference: 32145
(32145)
Pixel Size X: 0.699999999948449
Pixel Size Y: 0.6999999999484491
Band Count: 1
Pixel Type: F32
RasterFunction Infos: {"rasterFunctionInfos": [{
"name": "None",
"description": "A No-Op Function.",
"help": ""
}]}
Mensuration Capabilities: None
Inspection Capabilities:
Has Histograms: true
Has Colormap: false
Has Multi Dimensions : false
Rendering Rule:
Min Scale: 0
Max Scale: 0
Resampling: false
Copyright Text: VCGI
Service Data Type: esriImageServiceDataTypeGeneric
Min Values: -1.6058766841888428
Max Values: 1339.8487548828125
Mean Values: 367.2142719124999
Standard Deviation Values: 196.33159933074248
Object ID Field: OBJECTID
Fields:
-
OBJECTID
(
type: esriFieldTypeOID, alias: OBJECTID
)
-
Shape
(
type: esriFieldTypeGeometry, alias: Shape
)
-
Name
(
type: esriFieldTypeString, alias: Name, length: 200
)
-
MinPS
(
type: esriFieldTypeDouble, alias: MinPS
)
-
MaxPS
(
type: esriFieldTypeDouble, alias: MaxPS
)
-
LowPS
(
type: esriFieldTypeDouble, alias: LowPS
)
-
HighPS
(
type: esriFieldTypeDouble, alias: HighPS
)
-
Category
(
type: esriFieldTypeInteger, alias: Category
, Coded Values:
[0: Unknown]
, [1: Primary]
, [2: Overview]
, ...6 more...
)
-
Tag
(
type: esriFieldTypeString, alias: Tag, length: 100
)
-
GroupName
(
type: esriFieldTypeString, alias: GroupName, length: 100
)
-
ProductName
(
type: esriFieldTypeString, alias: ProductName, length: 100
)
-
CenterX
(
type: esriFieldTypeDouble, alias: CenterX
)
-
CenterY
(
type: esriFieldTypeDouble, alias: CenterY
)
-
ZOrder
(
type: esriFieldTypeInteger, alias: ZOrder
)
-
Shape_Length
(
type: esriFieldTypeDouble, alias: Shape_Length
)
-
Shape_Area
(
type: esriFieldTypeDouble, alias: Shape_Area
)
Default Mosaic Method: Northwest
Allowed Mosaic Methods: NorthWest,Center,LockRaster,ByAttribute,Nadir,Viewpoint,Seamline,None
SortField:
SortValue: null
Mosaic Operator: First
Default Compression Quality: 75
Default Resampling Method: Bilinear
Max Record Count: 1000
Max Image Height: 22000
Max Image Width: 22000
Max Download Image Count: 20
Max Mosaic Image Count: 20
Allow Raster Function: true
Allow Copy: true
Allow Analysis: true
Allow Compute TiePoints: false
Supports Statistics: true
Supports Advanced Queries: true
Use StandardizedQueries: true
Raster Type Infos:
Name: Raster Dataset
Description: Supports all ArcGIS Raster Datasets
Help:
Has Raster Attribute Table: false
Edit Fields Info: null
Ownership Based AccessControl For Rasters: null
Child Resources:
Info
Histograms
Statistics
Key Properties
Legend
Raster Function Infos
Supported Operations:
Export Image
Query
Identify
Download Rasters
Get Image Url
Measure
Compute Histograms
Compute Statistics Histograms
Get Samples
Compute Class Statistics
Query GPS Info
Find Images
Image to Map
Map to Image
Measure from Image
Image to Map Multiray
Query Boundary
Compute Pixel Location
Compute Angles
Validate
Project